BEGIN:VCALENDAR
VERSION:2.0
PRODID:-//Hydrocephalus Canada - ECPv6.15.20//NONSGML v1.0//EN
CALSCALE:GREGORIAN
METHOD:PUBLISH
X-ORIGINAL-URL:https://www.hydrocephalus.ca
X-WR-CALDESC:Events for Hydrocephalus Canada
REFRESH-INTERVAL;VALUE=DURATION:PT1H
X-Robots-Tag:noindex
X-PUBLISHED-TTL:PT1H
BEGIN:VTIMEZONE
TZID:America/Toronto
BEGIN:DAYLIGHT
TZOFFSETFROM:-0500
TZOFFSETTO:-0400
TZNAME:EDT
DTSTART:20250309T070000
END:DAYLIGHT
BEGIN:STANDARD
TZOFFSETFROM:-0400
TZOFFSETTO:-0500
TZNAME:EST
DTSTART:20251102T060000
END:STANDARD
BEGIN:DAYLIGHT
TZOFFSETFROM:-0500
TZOFFSETTO:-0400
TZNAME:EDT
DTSTART:20260308T070000
END:DAYLIGHT
BEGIN:STANDARD
TZOFFSETFROM:-0400
TZOFFSETTO:-0500
TZNAME:EST
DTSTART:20261101T060000
END:STANDARD
BEGIN:DAYLIGHT
TZOFFSETFROM:-0500
TZOFFSETTO:-0400
TZNAME:EDT
DTSTART:20270314T070000
END:DAYLIGHT
BEGIN:STANDARD
TZOFFSETFROM:-0400
TZOFFSETTO:-0500
TZNAME:EST
DTSTART:20271107T060000
END:STANDARD
END:VTIMEZONE
BEGIN:VEVENT
DTSTART;TZID=America/Toronto:20260113T200000
DTEND;TZID=America/Toronto:20260113T210000
DTSTAMP:20260419T103157
CREATED:20251217T183814Z
LAST-MODIFIED:20251217T183814Z
UID:10000285-1768334400-1768338000@www.hydrocephalus.ca
SUMMARY:💛 Hydrocephalus & Spina Bifida Parent Support Group (Online via Zoom)
DESCRIPTION:💛 Hydrocephalus & Spina Bifida Parent Support Group (Online via Zoom)🗓️ January 13🕗 8:00 PM EST \nTopic: Updating Your Family’s Medical History \nJoin our virtual parent support group for families navigating hydrocephalus\, spina bifida\, congenital disabilities\, and complex medical needs. This session will focus on medical history tracking\, care coordination\, emergency preparedness\, and patient advocacy\, helping parents feel more confident during hospital visits and specialist appointments. \n📩 Questions? Email us at info@hydrocephalus.ca🎁 Free parent kits available\, including vital medical information\, trusted resources\, and caregiver support tools. \n✅ Register here:https://us02web.zoom.us/meeting/register/a1kczGHsQ5C5qLi-V1TaLQ \n#Hydrocephalus #SpinaBifida #ParentSupportGroup #CaregiverSupport #DisabilityParenting #MedicalAdvocacy #RareDiseaseSupport #ComplexCare #SpecialNeedsParenting #HealthEquity
URL:https://www.hydrocephalus.ca/event/%f0%9f%92%9b-hydrocephalus-spina-bifida-parent-support-group-online-via-zoom/
LOCATION:ONLINE via ZOOM
CATEGORIES:Parents,Social Events,Support Groups
ATTACH;FMTTYPE=image/jpeg:https://www.hydrocephalus.ca/wp-content/uploads/2025/12/Support-Groups-2025-1080-x-600-px.jpg
ORGANIZER;CN="Hydrocephalus Canada":MAILTO:info@hydrocephalus.ca
END:VEVENT
END:VCALENDAR